Index of /checkResults/devel/bioc-LATEST/MetaboSignal/raw-results

[ICO]NameLast modifiedSizeDescription

[DIR]Parent Directory  -  
[   ]info.dcf07-Dec-2022 01:09 310  
[DIR]merida1/07-Dec-2022 01:09 -  
[DIR]nebbiolo1/07-Dec-2022 01:06 -  
[DIR]palomino3/07-Dec-2022 01:07 -