Back to Multiple platform build/check report for BioC 3.19:   simplified   long
ABCDEFGHIJKL[M]NOPQRSTUVWXYZ

This page was generated on 2024-03-04 11:36:53 -0500 (Mon, 04 Mar 2024).

HostnameOSArch (*)R versionInstalled pkgs
nebbiolo1Linux (Ubuntu 22.04.3 LTS)x86_64R Under development (unstable) (2024-01-16 r85808) -- "Unsuffered Consequences" 4676
palomino3Windows Server 2022 Datacenterx64R Under development (unstable) (2024-01-14 r85805 ucrt) -- "Unsuffered Consequences" 4414
merida1macOS 12.7.1 Montereyx86_64R Under development (unstable) (2024-01-16 r85808) -- "Unsuffered Consequences" 4441
kunpeng2Linux (openEuler 22.03 LTS-SP1)aarch64R Under development (unstable) (2024-01-16 r85812) -- "Unsuffered Consequences" 4417
Click on any hostname to see more info about the system (e.g. compilers)      (*) as reported by 'uname -p', except on Windows and Mac OS X

Package 1187/2251HostnameOS / ArchINSTALLBUILDCHECKBUILD BIN
MetaboSignal 1.33.1  (landing page)
Andrea Rodriguez-Martinez
Snapshot Date: 2024-03-01 14:00:22 -0500 (Fri, 01 Mar 2024)
git_url: https://git.bioconductor.org/packages/MetaboSignal
git_branch: devel
git_last_commit: be3468d
git_last_commit_date: 2023-12-16 00:45:11 -0500 (Sat, 16 Dec 2023)
nebbiolo1Linux (Ubuntu 22.04.3 LTS) / x86_64  OK    OK    OK  UNNEEDED, same version is already published
palomino3Windows Server 2022 Datacenter / x64  OK    OK    OK    OK  UNNEEDED, same version is already published
merida1macOS 12.7.1 Monterey / x86_64  OK    OK    OK    OK  UNNEEDED, same version is already published
kunpeng2Linux (openEuler 22.03 LTS-SP1) / aarch64  OK    OK    OK  

BUILD results for MetaboSignal on nebbiolo1


To the developers/maintainers of the MetaboSignal package:
- Allow up to 24 hours (and sometimes 48 hours) for your latest push to git@git.bioconductor.org:packages/MetaboSignal.git to reflect on this report. See Troubleshooting Build Report for more information.
- Use the following Renviron settings to reproduce errors and warnings.
- If 'R CMD check' started to fail recently on the Linux builder(s) over a missing dependency, add the missing dependency to 'Suggests:' in your DESCRIPTION file. See Renviron.bioc for more information.

raw results


Summary

Package: MetaboSignal
Version: 1.33.1
Command: /home/biocbuild/bbs-3.19-bioc/R/bin/R CMD build --keep-empty-dirs --no-resave-data MetaboSignal
StartedAt: 2024-03-01 17:45:01 -0500 (Fri, 01 Mar 2024)
EndedAt: 2024-03-01 17:46:56 -0500 (Fri, 01 Mar 2024)
EllapsedTime: 114.9 seconds
RetCode: 0
Status:   OK  
PackageFile: MetaboSignal_1.33.1.tar.gz
PackageFileSize: 2.089 MiB

Command output

##############################################################################
##############################################################################
###
### Running command:
###
###   /home/biocbuild/bbs-3.19-bioc/R/bin/R CMD build --keep-empty-dirs --no-resave-data MetaboSignal
###
##############################################################################
##############################################################################


* checking for file ‘MetaboSignal/DESCRIPTION’ ... OK
* preparing ‘MetaboSignal’:
* checking DESCRIPTION meta-information ... OK
* installing the package to build vignettes
* creating vignettes ... OK
Warning: ‘inst/doc’ files
    ‘MetaboSignal.html’, ‘MetaboSignal2.html’
  ignored as vignettes have been rebuilt.
  Run R CMD build with --no-build-vignettes to prevent rebuilding.
* checking for LF line-endings in source and make files and shell scripts
* checking for empty or unneeded directories
* building ‘MetaboSignal_1.33.1.tar.gz’