Name | Last modified | Size | Description | |
---|---|---|---|---|
Parent Directory | - | |||
buildbin-out.txt | 22-Jun-2024 02:22 | 1.2K | ||
buildbin-summary.dcf | 22-Jun-2024 02:22 | 581 | ||
buildsrc-out.txt | 12-Jul-2024 01:01 | 1.2K | ||
buildsrc-summary.dcf | 12-Jul-2024 01:01 | 360 | ||
checksrc-out.txt | 22-Jun-2024 02:22 | 3.3K | ||
checksrc-summary.dcf | 22-Jun-2024 02:22 | 478 | ||
install-out.txt | 12-Jul-2024 01:01 | 1.0K | ||
install-summary.dcf | 12-Jul-2024 01:01 | 286 | ||