Back to Multiple platform build/check report for BioC 3.16
ABCDEFGHIJKL[M]NOPQRSTUVWXYZ

This page was generated on 2022-06-24 11:06:44 -0400 (Fri, 24 Jun 2022).

HostnameOSArch (*)R versionInstalled pkgs
nebbiolo2Linux (Ubuntu 20.04.4 LTS)x86_644.2.0 Patched (2022-06-02 r82447) -- "Vigorous Calisthenics" 4331
palomino4Windows Server 2022 Datacenterx644.2.0 Patched (2022-06-02 r82447 ucrt) -- "Vigorous Calisthenics" 4136
lconwaymacOS 12.2.1 Montereyx86_644.2.0 Patched (2022-05-29 r82424) -- "Vigorous Calisthenics" 4147
Click on any hostname to see more info about the system (e.g. compilers)      (*) as reported by 'uname -p', except on Windows and Mac OS X

BUILD BIN results for MetaboAnnotation on palomino4


To the developers/maintainers of the MetaboAnnotation package:
- Please allow up to 24 hours (and sometimes 48 hours) for your latest push to git@git.bioconductor.org:packages/MetaboAnnotation.git to
reflect on this report. See How and When does the builder pull? When will my changes propagate? for more information.
- Make sure to use the following settings in order to reproduce any error or warning you see on this page.

raw results

Package 1108/2118HostnameOS / ArchINSTALLBUILDCHECKBUILD BIN
MetaboAnnotation 1.1.1  (landing page)
Johannes Rainer
Snapshot Date: 2022-06-23 14:00:04 -0400 (Thu, 23 Jun 2022)
git_url: https://git.bioconductor.org/packages/MetaboAnnotation
git_branch: master
git_last_commit: eaed960
git_last_commit_date: 2022-05-24 02:32:17 -0400 (Tue, 24 May 2022)
nebbiolo2Linux (Ubuntu 20.04.4 LTS) / x86_64  OK    OK    OK  UNNEEDED, same version is already published
palomino4Windows Server 2022 Datacenter / x64  OK    OK    OK    OK  UNNEEDED, same version is already published
lconwaymacOS 12.2.1 Monterey / x86_64  OK    OK    OK    OK  UNNEEDED, same version is already published

Summary

Package: MetaboAnnotation
Version: 1.1.1
Command: rm -rf MetaboAnnotation.buildbin-libdir && mkdir MetaboAnnotation.buildbin-libdir && F:\biocbuild\bbs-3.16-bioc\R\bin\R.exe CMD INSTALL --merge-multiarch --build --library=MetaboAnnotation.buildbin-libdir MetaboAnnotation_1.1.1.tar.gz
StartedAt: 2022-06-24 07:51:15 -0400 (Fri, 24 Jun 2022)
EndedAt: 2022-06-24 07:51:57 -0400 (Fri, 24 Jun 2022)
EllapsedTime: 42.5 seconds
RetCode: 0
Status:   OK  
PackageFile: MetaboAnnotation_1.1.1.zip
PackageFileSize: 1.464 MiB

Command output

##############################################################################
##############################################################################
###
### Running command:
###
###   rm -rf MetaboAnnotation.buildbin-libdir && mkdir MetaboAnnotation.buildbin-libdir && F:\biocbuild\bbs-3.16-bioc\R\bin\R.exe CMD INSTALL --merge-multiarch --build --library=MetaboAnnotation.buildbin-libdir MetaboAnnotation_1.1.1.tar.gz
###
##############################################################################
##############################################################################


only one architecture so ignoring '--merge-multiarch'
* installing *source* package 'MetaboAnnotation' ...
** using staged installation
** R
** inst
** byte-compile and prepare package for lazy loading
** help
*** installing help indices
*** copying figures
** building package indices
** installing vignettes
** testing if installed package can be loaded from temporary location
** testing if installed package can be loaded from final location
** testing if installed package keeps a record of temporary installation path
* MD5 sums
packaged installation of 'MetaboAnnotation' as MetaboAnnotation_1.1.1.zip
* DONE (MetaboAnnotation)