Index of /checkResults/devel/bioc-LATEST/MetaPhOR/raw-results/merida1
Name
Last modified
Size
Description
Parent Directory
-
buildsrc-out.txt
04-May-2024 00:38
656
buildsrc-summary.dcf
04-May-2024 00:38
351
install-out.txt
04-May-2024 00:38
1.0K
install-summary.dcf
04-May-2024 00:38
270