Name | Last modified | Size | Description | |
---|---|---|---|---|
Parent Directory | - | |||
buildsrc-out.txt | 16-Jun-2024 01:33 | 850 | ||
buildsrc-summary.dcf | 16-Jun-2024 01:33 | 438 | ||
checksrc-out.txt | 16-Jun-2024 01:33 | 6.5K | ||
checksrc-summary.dcf | 16-Jun-2024 01:33 | 434 | ||
install-out.txt | 16-Jun-2024 01:33 | 1.0K | ||
install-summary.dcf | 16-Jun-2024 01:33 | 268 | ||