Back to Multiple platform build/check report for BioC 3.15
ABCDEFGHIJKL[M]NOPQRSTUVWXYZ

This page was generated on 2022-01-27 11:07:29 -0500 (Thu, 27 Jan 2022).

HostnameOSArch (*)R versionInstalled pkgs
nebbiolo1Linux (Ubuntu 20.04.4 LTS)x86_64R Under development (unstable) (2022-01-05 r81451) -- "Unsuffered Consequences" 4167
riesling1Windows Server 2019 Standardx64R Under development (unstable) (2021-11-21 r81221) -- "Unsuffered Consequences" 4062
palomino3Windows Server 2022 Datacenterx64R Under development (unstable) (2021-12-21 r81400 ucrt) -- "Unsuffered Consequences" 4004
merida1macOS 10.14.6 Mojavex86_64R Under development (unstable) (2022-01-05 r81451) -- "Unsuffered Consequences" 4121
Click on any hostname to see more info about the system (e.g. compilers)      (*) as reported by 'uname -p', except on Windows and Mac OS X

BUILD results for MesKit on riesling1


To the developers/maintainers of the MesKit package:
- Please allow up to 24 hours (and sometimes 48 hours) for your latest push to git@git.bioconductor.org:packages/MesKit.git to
reflect on this report. See How and When does the builder pull? When will my changes propagate? here for more information.
- Make sure to use the following settings in order to reproduce any error or warning you see on this page.

raw results

Package 1085/2077HostnameOS / ArchINSTALLBUILDCHECKBUILD BIN
MesKit 1.5.0  (landing page)
Mengni Liu
Snapshot Date: 2022-01-26 13:55:18 -0500 (Wed, 26 Jan 2022)
git_url: https://git.bioconductor.org/packages/MesKit
git_branch: master
git_last_commit: 402cd61
git_last_commit_date: 2021-10-26 13:01:22 -0500 (Tue, 26 Oct 2021)
nebbiolo1Linux (Ubuntu 20.04.4 LTS) / x86_64  OK    OK    WARNINGS  UNNEEDED, same version is already published
riesling1Windows Server 2019 Standard / x64  ERROR    ERROR  skippedskipped
palomino3Windows Server 2022 Datacenter / x64  OK    OK    WARNINGS    OK  NO, package depends on 'Biostrings' which is not available
merida1macOS 10.14.6 Mojave / x86_64  OK    OK    WARNINGS    OK  UNNEEDED, same version is already published

Summary

Package: MesKit
Version: 1.5.0
Command: chmod a+r MesKit -R && D:\biocbuild\bbs-3.15-bioc\R\bin\R.exe CMD build --keep-empty-dirs --no-resave-data MesKit
StartedAt: 2022-01-26 17:10:45 -0500 (Wed, 26 Jan 2022)
EndedAt: 2022-01-26 17:10:52 -0500 (Wed, 26 Jan 2022)
EllapsedTime: 6.6 seconds
RetCode: 1
Status:   ERROR  
PackageFile: None
PackageFileSize: NA

Command output

##############################################################################
##############################################################################
###
### Running command:
###
###   chmod a+r MesKit -R && D:\biocbuild\bbs-3.15-bioc\R\bin\R.exe CMD build --keep-empty-dirs --no-resave-data MesKit
###
##############################################################################
##############################################################################


* checking for file 'MesKit/DESCRIPTION' ... OK
* preparing 'MesKit':
* checking DESCRIPTION meta-information ... OK
* installing the package to build vignettes
      -----------------------------------
* installing *source* package 'MesKit' ...
** using staged installation
** R
** inst
** byte-compile and prepare package for lazy loading
Warning: replacing previous import 'ape::degree' by 'circlize::degree' when loading 'MesKit'
ERROR: lazy loading failed for package 'MesKit'
* removing 'D:/biocbuild/bbs-3.15-bioc/tmpdir/RtmpayJDk5/Rinst1c342acd19d3/MesKit'
      -----------------------------------
ERROR: package installation failed