Back to Multiple platform build/check report for BioC 3.15
ABCDEFGHIJKL[M]NOPQRSTUVWXYZ

This page was generated on 2021-12-15 12:34:49 -0500 (Wed, 15 Dec 2021).

BUILD BIN results for MesKit on riesling1

To the developers/maintainers of the MesKit package:
- Please allow up to 24 hours (and sometimes 48 hours) for your latest push to git@git.bioconductor.org:packages/MesKit.git to
reflect on this report. See How and When does the builder pull? When will my changes propagate? here for more information.
- Make sure to use the following settings in order to reproduce any error or warning you see on this page.

raw results

Package 1080/2069HostnameOS / ArchINSTALLBUILDCHECKBUILD BIN
MesKit 1.5.0  (landing page)
Mengni Liu
Snapshot Date: 2021-12-14 13:55:12 -0500 (Tue, 14 Dec 2021)
git_url: https://git.bioconductor.org/packages/MesKit
git_branch: master
git_last_commit: 402cd61
git_last_commit_date: 2021-10-26 13:01:22 -0500 (Tue, 26 Oct 2021)
nebbiolo1Linux (Ubuntu 20.04.3 LTS) / x86_64  OK    OK    OK  UNNEEDED, same version is already published
riesling1Windows Server 2019 Standard / x64  OK    OK    OK    OK  
merida1macOS 10.14.6 Mojave / x86_64  OK    OK    OK    OK  UNNEEDED, same version is already published

Summary

Package: MesKit
Version: 1.5.0
Command: rm -rf MesKit.buildbin-libdir && mkdir MesKit.buildbin-libdir && D:\biocbuild\bbs-3.15-bioc\R\bin\R.exe CMD INSTALL --build --library=MesKit.buildbin-libdir MesKit_1.5.0.tar.gz
StartedAt: 2021-12-14 21:18:07 -0500 (Tue, 14 Dec 2021)
EndedAt: 2021-12-14 21:18:49 -0500 (Tue, 14 Dec 2021)
EllapsedTime: 41.8 seconds
RetCode: 0
Status:   OK  
PackageFile: MesKit_1.5.0.zip
PackageFileSize: 2.696 MiB

Command output

##############################################################################
##############################################################################
###
### Running command:
###
###   rm -rf MesKit.buildbin-libdir && mkdir MesKit.buildbin-libdir && D:\biocbuild\bbs-3.15-bioc\R\bin\R.exe CMD INSTALL --build --library=MesKit.buildbin-libdir MesKit_1.5.0.tar.gz
###
##############################################################################
##############################################################################


* installing *source* package 'MesKit' ...
** using staged installation
** R
** inst
** byte-compile and prepare package for lazy loading
** help
*** installing help indices
  converting help for package 'MesKit'
    finding HTML links ... done
    Maf-class                               html  
    MafList-class                           html  
    calFst                                  html  
    calJSI                                  html  
    calNeiDist                              html  
    ccfAUC                                  html  
    classifyMut                             html  
    cna2gene                                html  
    compareCCF                              html  
    compareTree                             html  
    fitSignatures                           html  
    getBinaryMatrix                         html  
    getBootstrapValue                       html  
    getBranchType                           html  
    getCCFMatrix                            html  
    getMafData                              html  
    getMafPatient                           html  
    getMafRef                               html  
    getMutBranches                          html  
    getNonSyn_vc                            html  
    getPhyloTree                            html  
    getPhyloTreePatient                     html  
    getPhyloTreeRef                         html  
    getPhyloTreeTsbLabel                    html  
    getSampleInfo                           html  
    getTree                                 html  
    getTreeMethod                           html  
    mathScore                               html  
    mutCluster                              html  
    mutHeatmap                              html  
    mutTrunkBranch                          html  
    phyloTree-class                         html  
    phyloTreeList-class                     html  
    plotCNA                                 html  
    plotMutProfile                          html  
    plotMutSigProfile                       html  
    plotPhyloTree                           html  
    readMaf                                 html  
    readSegment                             html  
    runMesKit                               html  
    subMaf                                  html  
    testNeutral                             html  
    triMatrix                               html  
** building package indices
** installing vignettes
** testing if installed package can be loaded from temporary location
** testing if installed package can be loaded from final location
** testing if installed package keeps a record of temporary installation path
* MD5 sums
packaged installation of 'MesKit' as MesKit_1.5.0.zip
* DONE (MesKit)