Index of /checkResults/devel/bioc-LATEST/MatrixQCvis/raw-results/palomino4

[ICO]NameLast modifiedSizeDescription

[DIR]Parent Directory  -  
[TXT]buildbin-out.txt02-Jul-2022 00:06 1.2K 
[   ]buildbin-summary.dcf02-Jul-2022 00:06 554  
[TXT]buildsrc-out.txt02-Jul-2022 00:06 858  
[   ]buildsrc-summary.dcf02-Jul-2022 00:06 466  
[TXT]checksrc-out.txt02-Jul-2022 00:06 3.0K 
[   ]checksrc-summary.dcf02-Jul-2022 00:06 464  
[TXT]install-out.txt02-Jul-2022 00:06 1.8K 
[   ]install-summary.dcf02-Jul-2022 00:06 658