![]() | Name | Last modified | Size | Description |
---|---|---|---|---|
![]() | Parent Directory | - | ||
![]() | buildsrc-out.txt | 30-Jun-2022 00:04 | 821 | |
![]() | buildsrc-summary.dcf | 30-Jun-2022 00:04 | 427 | |
![]() | checksrc-out.txt | 30-Jun-2022 00:04 | 3.0K | |
![]() | checksrc-summary.dcf | 30-Jun-2022 00:04 | 438 | |
![]() | install-out.txt | 30-Jun-2022 00:04 | 959 | |
![]() | install-summary.dcf | 30-Jun-2022 00:04 | 266 | |