Back to Multiple platform build/check report for BioC 3.14
ABCDEFGHIJKL[M]NOPQRSTUVWXYZ

This page was generated on 2021-10-22 12:04:31 -0400 (Fri, 22 Oct 2021).

INSTALL results for Maaslin2 on riesling1

To the developers/maintainers of the Maaslin2 package:
- Please allow up to 24 hours (and sometimes 48 hours) for your latest push to git@git.bioconductor.org:packages/Maaslin2.git to
reflect on this report. See How and When does the builder pull? When will my changes propagate? here for more information.
- Make sure to use the following settings in order to reproduce any error or warning you see on this page.

raw results

Package 1022/2075HostnameOS / ArchINSTALLBUILDCHECKBUILD BIN
Maaslin2 1.7.2  (landing page)
Lauren McIver
Snapshot Date: 2021-10-21 14:50:08 -0400 (Thu, 21 Oct 2021)
git_url: https://git.bioconductor.org/packages/Maaslin2
git_branch: master
git_last_commit: fa0acbd
git_last_commit_date: 2021-07-29 18:52:57 -0400 (Thu, 29 Jul 2021)
nebbiolo2Linux (Ubuntu 20.04.2 LTS) / x86_64  OK    OK    OK  UNNEEDED, same version is already published
riesling1Windows Server 2019 Standard / x64  OK    OK    OK    OK  UNNEEDED, same version is already published
merida1macOS 10.14.6 Mojave / x86_64  OK    OK    OK    NA  

Summary

Package: Maaslin2
Version: 1.7.2
Command: C:\cygwin\bin\curl.exe -O http://155.52.207.166/BBS/3.14/bioc/src/contrib/Maaslin2_1.7.2.tar.gz && rm -rf Maaslin2.buildbin-libdir && mkdir Maaslin2.buildbin-libdir && D:\biocbuild\bbs-3.14-bioc\R\bin\R.exe CMD INSTALL --merge-multiarch --build --library=Maaslin2.buildbin-libdir Maaslin2_1.7.2.tar.gz && D:\biocbuild\bbs-3.14-bioc\R\bin\R.exe CMD INSTALL Maaslin2_1.7.2.zip && rm Maaslin2_1.7.2.tar.gz Maaslin2_1.7.2.zip
StartedAt: 2021-10-21 18:35:26 -0400 (Thu, 21 Oct 2021)
EndedAt: 2021-10-21 18:38:29 -0400 (Thu, 21 Oct 2021)
EllapsedTime: 182.8 seconds
RetCode: 0
Status:   OK  

Command output

##############################################################################
##############################################################################
###
### Running command:
###
###   C:\cygwin\bin\curl.exe -O http://155.52.207.166/BBS/3.14/bioc/src/contrib/Maaslin2_1.7.2.tar.gz && rm -rf Maaslin2.buildbin-libdir && mkdir Maaslin2.buildbin-libdir && D:\biocbuild\bbs-3.14-bioc\R\bin\R.exe CMD INSTALL --merge-multiarch --build --library=Maaslin2.buildbin-libdir Maaslin2_1.7.2.tar.gz && D:\biocbuild\bbs-3.14-bioc\R\bin\R.exe CMD INSTALL Maaslin2_1.7.2.zip && rm Maaslin2_1.7.2.tar.gz Maaslin2_1.7.2.zip
###
##############################################################################
##############################################################################


  % Total    % Received % Xferd  Average Speed   Time    Time     Time  Current
                                 Dload  Upload   Total   Spent    Left  Speed

  0     0    0     0    0     0      0      0 --:--:-- --:--:-- --:--:--     0
100  323k  100  323k    0     0  1413k      0 --:--:-- --:--:-- --:--:-- 1413k

install for i386

* installing *source* package 'Maaslin2' ...
** using staged installation
** R
** inst
** byte-compile and prepare package for lazy loading
Warning in checkDepPackageVersion(dep_pkg = "TMB") :
  Package version inconsistency detected.
glmmTMB was built with TMB version 1.7.21
Current TMB version is 1.7.22
Please re-install glmmTMB from source or restore original 'TMB' package (see '?reinstalling' for more information)
** help
*** installing help indices
  converting help for package 'Maaslin2'
    finding HTML links ... done
    Maaslin2                                html  
** building package indices
** installing vignettes
** testing if installed package can be loaded from temporary location
** testing if installed package can be loaded from final location
** testing if installed package keeps a record of temporary installation path

install for x64

* installing *source* package 'Maaslin2' ...
** testing if installed package can be loaded
* MD5 sums
packaged installation of 'Maaslin2' as Maaslin2_1.7.2.zip
* DONE (Maaslin2)
* installing to library 'D:/biocbuild/bbs-3.14-bioc/R/library'
package 'Maaslin2' successfully unpacked and MD5 sums checked