Name | Last modified | Size | Description | |
---|---|---|---|---|
Parent Directory | - | |||
checksrc-out.txt | 09-Jul-2024 00:45 | 3.5K | ||
checksrc-summary.dcf | 09-Jul-2024 00:45 | 409 | ||
buildsrc-summary.dcf | 09-Jul-2024 00:45 | 409 | ||
buildsrc-out.txt | 09-Jul-2024 00:45 | 838 | ||
install-summary.dcf | 07-Jul-2024 00:44 | 249 | ||
install-out.txt | 07-Jul-2024 00:44 | 937 | ||