Back to Multiple platform build/check report for BioC 3.15
ABCDEFGHIJKL[M]NOPQRSTUVWXYZ

This page was generated on 2022-01-25 11:06:02 -0500 (Tue, 25 Jan 2022).

HostnameOSArch (*)R versionInstalled pkgs
nebbiolo1Linux (Ubuntu 20.04.4 LTS)x86_64R Under development (unstable) (2022-01-05 r81451) -- "Unsuffered Consequences" 4164
riesling1Windows Server 2019 Standardx64R Under development (unstable) (2021-11-21 r81221) -- "Unsuffered Consequences" 4059
palomino3Windows Server 2022 Datacenterx64R Under development (unstable) (2021-12-21 r81400 ucrt) -- "Unsuffered Consequences" 4001
merida1macOS 10.14.6 Mojavex86_64R Under development (unstable) (2022-01-05 r81451) -- "Unsuffered Consequences" 4118
Click on any hostname to see more info about the system (e.g. compilers)      (*) as reported by 'uname -p', except on Windows and Mac OS X

BUILD results for MSstatsQCgui on nebbiolo1


To the developers/maintainers of the MSstatsQCgui package:
- Please allow up to 24 hours (and sometimes 48 hours) for your latest push to git@git.bioconductor.org:packages/MSstatsQCgui.git to
reflect on this report. See How and When does the builder pull? When will my changes propagate? here for more information.
- Make sure to use the following settings in order to reproduce any error or warning you see on this page.

raw results

Package 1228/2075HostnameOS / ArchINSTALLBUILDCHECKBUILD BIN
MSstatsQCgui 1.15.0  (landing page)
Eralp Dogu
Snapshot Date: 2022-01-24 13:55:18 -0500 (Mon, 24 Jan 2022)
git_url: https://git.bioconductor.org/packages/MSstatsQCgui
git_branch: master
git_last_commit: d18f9aa
git_last_commit_date: 2021-10-26 12:44:39 -0500 (Tue, 26 Oct 2021)
nebbiolo1Linux (Ubuntu 20.04.4 LTS) / x86_64  OK    OK    OK  UNNEEDED, same version is already published
riesling1Windows Server 2019 Standard / x64  OK    OK    OK    OK  
palomino3Windows Server 2022 Datacenter / x64  OK    OK    OK    OK  NO, package depends on 'MSstatsQC' which is not available
merida1macOS 10.14.6 Mojave / x86_64  OK    OK    OK    OK  NO, package depends on 'MSstatsQC' which is not available

Summary

Package: MSstatsQCgui
Version: 1.15.0
Command: /home/biocbuild/bbs-3.15-bioc/R/bin/R CMD build --keep-empty-dirs --no-resave-data MSstatsQCgui
StartedAt: 2022-01-24 16:55:30 -0500 (Mon, 24 Jan 2022)
EndedAt: 2022-01-24 16:55:47 -0500 (Mon, 24 Jan 2022)
EllapsedTime: 16.9 seconds
RetCode: 0
Status:   OK  
PackageFile: MSstatsQCgui_1.15.0.tar.gz
PackageFileSize: 75.08 KiB

Command output

##############################################################################
##############################################################################
###
### Running command:
###
###   /home/biocbuild/bbs-3.15-bioc/R/bin/R CMD build --keep-empty-dirs --no-resave-data MSstatsQCgui
###
##############################################################################
##############################################################################


* checking for file ‘MSstatsQCgui/DESCRIPTION’ ... OK
* preparing ‘MSstatsQCgui’:
* checking DESCRIPTION meta-information ... OK
* installing the package to build vignettes
* creating vignettes ... OK
* checking for LF line-endings in source and make files and shell scripts
* checking for empty or unneeded directories
* building ‘MSstatsQCgui_1.15.0.tar.gz’