Name | Last modified | Size | Description | |
---|---|---|---|---|
Parent Directory | - | |||
buildbin-out.txt | 23-Mar-2024 00:39 | 4.3K | ||
buildbin-summary.dcf | 23-Mar-2024 00:39 | 545 | ||
buildsrc-out.txt | 29-Mar-2024 00:39 | 15K | ||
buildsrc-summary.dcf | 29-Mar-2024 00:39 | 348 | ||
checksrc-out.txt | 23-Mar-2024 00:39 | 7.0K | ||
checksrc-summary.dcf | 23-Mar-2024 00:39 | 454 | ||
install-out.txt | 29-Mar-2024 00:39 | 2.2K | ||
install-summary.dcf | 29-Mar-2024 00:39 | 274 | ||