![]() | Name | Last modified | Size | Description |
---|---|---|---|---|
![]() | Parent Directory | - | ||
![]() | buildbin-out.txt | 23-Sep-2023 00:38 | 5.4K | |
![]() | buildbin-summary.dcf | 23-Sep-2023 00:38 | 516 | |
![]() | buildsrc-out.txt | 23-Sep-2023 00:38 | 871 | |
![]() | buildsrc-summary.dcf | 23-Sep-2023 00:38 | 453 | |
![]() | checksrc-out.txt | 23-Sep-2023 00:38 | 6.4K | |
![]() | checksrc-summary.dcf | 23-Sep-2023 00:38 | 452 | |
![]() | install-out.txt | 23-Sep-2023 00:38 | 5.2K | |
![]() | install-summary.dcf | 23-Sep-2023 00:38 | 268 | |