![]() | Name | Last modified | Size | Description |
---|---|---|---|---|
![]() | Parent Directory | - | ||
![]() | buildsrc-out.txt | 30-Sep-2023 01:02 | 836 | |
![]() | buildsrc-summary.dcf | 30-Sep-2023 01:02 | 418 | |
![]() | checksrc-out.txt | 30-Sep-2023 01:02 | 5.3K | |
![]() | checksrc-summary.dcf | 30-Sep-2023 01:02 | 414 | |
![]() | install-out.txt | 30-Sep-2023 01:02 | 5.1K | |
![]() | install-summary.dcf | 30-Sep-2023 01:02 | 259 | |