Name | Last modified | Size | Description | |
---|---|---|---|---|
Parent Directory | - | |||
install-summary.dcf | 27-Jun-2024 00:39 | 269 | ||
buildsrc-summary.dcf | 27-Jun-2024 00:39 | 426 | ||
checksrc-summary.dcf | 27-Jun-2024 00:39 | 444 | ||
buildbin-summary.dcf | 27-Jun-2024 00:39 | 529 | ||
buildsrc-out.txt | 27-Jun-2024 00:39 | 846 | ||
checksrc-out.txt | 27-Jun-2024 00:39 | 4.7K | ||
install-out.txt | 27-Jun-2024 00:39 | 4.8K | ||
buildbin-out.txt | 27-Jun-2024 00:39 | 6.8K | ||