Index of /checkResults/devel/bioc-LATEST/MSnbase/raw-results

[ICO]NameLast modifiedSizeDescription

[DIR]Parent Directory  -  
[DIR]kunpeng2/23-Sep-2023 00:40 -  
[DIR]lconway/23-Sep-2023 00:39 -  
[DIR]nebbiolo2/23-Sep-2023 00:36 -  
[DIR]palomino4/23-Sep-2023 00:38 -  
[   ]info.dcf23-Sep-2023 00:40 271