Back to Multiple platform build/check report for BioC 3.15
ABCDEFGHIJKL[M]NOPQRSTUVWXYZ

This page was generated on 2022-01-15 11:08:06 -0500 (Sat, 15 Jan 2022).

HostnameOSArch (*)R versionInstalled pkgs
nebbiolo1Linux (Ubuntu 20.04.4 LTS)x86_64R Under development (unstable) (2022-01-05 r81451) -- "Unsuffered Consequences" 4160
riesling1Windows Server 2019 Standardx64R Under development (unstable) (2021-11-21 r81221) -- "Unsuffered Consequences" 4055
palomino3Windows Server 2022 Datacenterx64R Under development (unstable) (2021-12-21 r81400 ucrt) -- "Unsuffered Consequences" 3997
merida1macOS 10.14.6 Mojavex86_64R Under development (unstable) (2022-01-05 r81451) -- "Unsuffered Consequences" 4114
Click on any hostname to see more info about the system (e.g. compilers)      (*) as reported by 'uname -p', except on Windows and Mac OS X

BUILD BIN results for MSnID on riesling1


To the developers/maintainers of the MSnID package:
- Please allow up to 24 hours (and sometimes 48 hours) for your latest push to git@git.bioconductor.org:packages/MSnID.git to
reflect on this report. See How and When does the builder pull? When will my changes propagate? here for more information.
- Make sure to use the following settings in order to reproduce any error or warning you see on this page.

raw results

Package 1218/2074HostnameOS / ArchINSTALLBUILDCHECKBUILD BIN
MSnID 1.29.0  (landing page)
Vlad Petyuk
Snapshot Date: 2022-01-14 13:55:18 -0500 (Fri, 14 Jan 2022)
git_url: https://git.bioconductor.org/packages/MSnID
git_branch: master
git_last_commit: 421aa9e
git_last_commit_date: 2021-10-26 12:16:01 -0500 (Tue, 26 Oct 2021)
nebbiolo1Linux (Ubuntu 20.04.4 LTS) / x86_64  OK    OK    OK  UNNEEDED, same version is already published
riesling1Windows Server 2019 Standard / x64  OK    OK    OK    OK  
palomino3Windows Server 2022 Datacenter / x64  OK    OK    OK    OK  NO, package depends on 'MSnbase' which is not available
merida1macOS 10.14.6 Mojave / x86_64  OK    OK    OK    OK  UNNEEDED, same version is already published

Summary

Package: MSnID
Version: 1.29.0
Command: rm -rf MSnID.buildbin-libdir && mkdir MSnID.buildbin-libdir && D:\biocbuild\bbs-3.15-bioc\R\bin\R.exe CMD INSTALL --build --library=MSnID.buildbin-libdir MSnID_1.29.0.tar.gz
StartedAt: 2022-01-14 21:09:54 -0500 (Fri, 14 Jan 2022)
EndedAt: 2022-01-14 21:11:19 -0500 (Fri, 14 Jan 2022)
EllapsedTime: 84.9 seconds
RetCode: 0
Status:   OK  
PackageFile: MSnID_1.29.0.zip
PackageFileSize: 3.928 MiB

Command output

##############################################################################
##############################################################################
###
### Running command:
###
###   rm -rf MSnID.buildbin-libdir && mkdir MSnID.buildbin-libdir && D:\biocbuild\bbs-3.15-bioc\R\bin\R.exe CMD INSTALL --build --library=MSnID.buildbin-libdir MSnID_1.29.0.tar.gz
###
##############################################################################
##############################################################################


* installing *source* package 'MSnID' ...
** using staged installation
** R
** data
*** moving datasets to lazyload DB
** demo
** inst
** byte-compile and prepare package for lazy loading
** help
*** installing help indices
  converting help for package 'MSnID'
    finding HTML links ... done
    MSnID-class                             html  
    finding level-2 HTML links ... done

    MSnID-package                           html  
    MSnIDFilter-class                       html  
    accessions                              html  
    add_mod_symbol                          html  
    apply_filter                            html  
    assess_missed_cleavages                 html  
    assess_termini                          html  
    correct_peak_selection                  html  
    data                                    html  
    evaluate_filter                         html  
    fetch_conversion_table                  html  
    id_quality                              html  
    infer_parsimonious_accessions           html  
    map_mod_sites                           html  
    mass_measurement_error                  html  
    optimize_filter                         html  
    peptides                                html  
    psms                                    html  
    read_mzIDs                              html  
    recalibrate                             html  
    remap_accessions-method                 html  
    remap_fasta_entry_names                 html  
    report_mods                             html  
** building package indices
** installing vignettes
** testing if installed package can be loaded from temporary location
** testing if installed package can be loaded from final location
** testing if installed package keeps a record of temporary installation path
* MD5 sums
packaged installation of 'MSnID' as MSnID_1.29.0.zip
* DONE (MSnID)