Index of /checkResults/devel/bioc-LATEST/MSnID/raw-results/nebbiolo2

[ICO]NameLast modifiedSizeDescription

[DIR]Parent Directory  -  
[TXT]install-out.txt19-Aug-2022 00:05 1.0K 
[   ]install-summary.dcf19-Aug-2022 00:05 255  
[TXT]buildsrc-out.txt19-Aug-2022 00:05 798  
[   ]buildsrc-summary.dcf19-Aug-2022 00:05 411  
[TXT]checksrc-out.txt19-Aug-2022 00:05 3.7K 
[   ]checksrc-summary.dcf19-Aug-2022 00:05 416