![]() | Name | Last modified | Size | Description |
---|---|---|---|---|
![]() | Parent Directory | - | ||
![]() | install-summary.dcf | 24-Sep-2023 00:39 | 265 | |
![]() | buildsrc-summary.dcf | 24-Sep-2023 00:39 | 422 | |
![]() | checksrc-summary.dcf | 24-Sep-2023 00:39 | 436 | |
![]() | buildbin-summary.dcf | 24-Sep-2023 00:39 | 518 | |
![]() | buildsrc-out.txt | 24-Sep-2023 00:39 | 808 | |
![]() | install-out.txt | 24-Sep-2023 00:39 | 1.0K | |
![]() | buildbin-out.txt | 24-Sep-2023 00:39 | 1.2K | |
![]() | checksrc-out.txt | 24-Sep-2023 00:39 | 4.1K | |