Back to Multiple platform build/check report for BioC 3.15
ABCDEFGHIJKL[M]NOPQRSTUVWXYZ

This page was generated on 2021-11-30 13:55:02 -0500 (Tue, 30 Nov 2021).

INSTALL results for MSPrep on riesling1

To the developers/maintainers of the MSPrep package:
- Please allow up to 24 hours (and sometimes 48 hours) for your latest push to git@git.bioconductor.org:packages/MSPrep.git to
reflect on this report. See How and When does the builder pull? When will my changes propagate? here for more information.
- Make sure to use the following settings in order to reproduce any error or warning you see on this page.

raw results

Package 1214/2068HostnameOS / ArchINSTALLBUILDCHECKBUILD BIN
MSPrep 1.5.0  (landing page)
Max McGrath
Snapshot Date: 2021-11-29 14:50:17 -0500 (Mon, 29 Nov 2021)
git_url: https://git.bioconductor.org/packages/MSPrep
git_branch: master
git_last_commit: ad2e454
git_last_commit_date: 2021-10-26 13:03:21 -0500 (Tue, 26 Oct 2021)
nebbiolo1Linux (Ubuntu 20.04.3 LTS) / x86_64  OK    OK    OK  UNNEEDED, same version is already published
riesling1Windows Server 2019 Standard / x64  OK    OK    OK    OK  
merida1macOS 10.14.6 Mojave / x86_64  OK    OK    OK    OK  UNNEEDED, same version is already published

Summary

Package: MSPrep
Version: 1.5.0
Command: C:\cygwin\bin\curl.exe -O http://155.52.207.165/BBS/3.15/bioc/src/contrib/MSPrep_1.5.0.tar.gz && rm -rf MSPrep.buildbin-libdir && mkdir MSPrep.buildbin-libdir && D:\biocbuild\bbs-3.15-bioc\R\bin\R.exe CMD INSTALL --merge-multiarch --build --library=MSPrep.buildbin-libdir MSPrep_1.5.0.tar.gz && D:\biocbuild\bbs-3.15-bioc\R\bin\R.exe CMD INSTALL MSPrep_1.5.0.zip && rm MSPrep_1.5.0.tar.gz MSPrep_1.5.0.zip
StartedAt: 2021-11-29 19:34:01 -0500 (Mon, 29 Nov 2021)
EndedAt: 2021-11-29 19:36:59 -0500 (Mon, 29 Nov 2021)
EllapsedTime: 177.8 seconds
RetCode: 0
Status:   OK  

Command output

##############################################################################
##############################################################################
###
### Running command:
###
###   C:\cygwin\bin\curl.exe -O http://155.52.207.165/BBS/3.15/bioc/src/contrib/MSPrep_1.5.0.tar.gz && rm -rf MSPrep.buildbin-libdir && mkdir MSPrep.buildbin-libdir && D:\biocbuild\bbs-3.15-bioc\R\bin\R.exe CMD INSTALL --merge-multiarch --build --library=MSPrep.buildbin-libdir MSPrep_1.5.0.tar.gz && D:\biocbuild\bbs-3.15-bioc\R\bin\R.exe CMD INSTALL MSPrep_1.5.0.zip && rm MSPrep_1.5.0.tar.gz MSPrep_1.5.0.zip
###
##############################################################################
##############################################################################


  % Total    % Received % Xferd  Average Speed   Time    Time     Time  Current
                                 Dload  Upload   Total   Spent    Left  Speed

  0     0    0     0    0     0      0      0 --:--:-- --:--:-- --:--:--     0
100 1339k  100 1339k    0     0  3951k      0 --:--:-- --:--:-- --:--:-- 3951k
only one architecture so ignoring '--merge-multiarch'
* installing *source* package 'MSPrep' ...
** using staged installation
** R
** data
** byte-compile and prepare package for lazy loading
** help
*** installing help indices
  converting help for package 'MSPrep'
    finding HTML links ... done
    COPD_131                                html  
    MSPrep                                  html  
    msFilter                                html  
    msImpute                                html  
    msNormalize                             html  
    msPrepare                               html  
    msSummarize                             html  
    msquant                                 html  
** building package indices
** installing vignettes
** testing if installed package can be loaded from temporary location
** testing if installed package can be loaded from final location
** testing if installed package keeps a record of temporary installation path
* MD5 sums
packaged installation of 'MSPrep' as MSPrep_1.5.0.zip
* DONE (MSPrep)
* installing to library 'D:/biocbuild/bbs-3.15-bioc/R/library'
package 'MSPrep' successfully unpacked and MD5 sums checked