Back to Multiple platform build/check report for BioC 3.18:   simplified   long
ABCDEFGHIJKL[M]NOPQRSTUVWXYZ

This page was generated on 2023-09-29 12:06:23 -0400 (Fri, 29 Sep 2023).

HostnameOSArch (*)R versionInstalled pkgs
nebbiolo2Linux (Ubuntu 22.04.2 LTS)x86_644.3.1 (2023-06-16) -- "Beagle Scouts" 4660
palomino4Windows Server 2022 Datacenterx644.3.1 (2023-06-16 ucrt) -- "Beagle Scouts" 4395
lconwaymacOS 12.6.5 Montereyx86_644.3.1 Patched (2023-06-17 r84564) -- "Beagle Scouts" 4409
kunpeng2Linux (openEuler 22.03 LTS-SP1)aarch644.3.1 (2023-06-16) -- "Beagle Scouts" 4400
Click on any hostname to see more info about the system (e.g. compilers)      (*) as reported by 'uname -p', except on Windows and Mac OS X

Package 1321/2233HostnameOS / ArchINSTALLBUILDCHECKBUILD BIN
MSPrep 1.11.0  (landing page)
Max McGrath
Snapshot Date: 2023-09-28 14:05:06 -0400 (Thu, 28 Sep 2023)
git_url: https://git.bioconductor.org/packages/MSPrep
git_branch: devel
git_last_commit: 205f940
git_last_commit_date: 2023-04-25 11:23:17 -0400 (Tue, 25 Apr 2023)
nebbiolo2Linux (Ubuntu 22.04.2 LTS) / x86_64  OK    OK    OK  UNNEEDED, same version is already published
palomino4Windows Server 2022 Datacenter / x64  OK    OK    OK    OK  UNNEEDED, same version is already published
lconwaymacOS 12.6.5 Monterey / x86_64  OK    OK    OK    OK  UNNEEDED, same version is already published
kunpeng2Linux (openEuler 22.03 LTS-SP1) / aarch64  OK    OK    ERROR  

CHECK results for MSPrep on kunpeng2


To the developers/maintainers of the MSPrep package:
- Allow up to 24 hours (and sometimes 48 hours) for your latest push to git@git.bioconductor.org:packages/MSPrep.git to reflect on this report. See Troubleshooting Build Report for more information.
- Use the following Renviron settings to reproduce errors and warnings.
- If 'R CMD check' started to fail recently on the Linux builder(s) over a missing dependency, add the missing dependency to 'Suggests:' in your DESCRIPTION file. See Renviron.bioc for more information.
- See Martin Grigorov's blog post for how to debug Linux ARM64 related issues on a x86_64 host.

raw results


Summary

Package: MSPrep
Version: 1.11.0
Command: /home/biocbuild/R/R-4.3.1/bin/R CMD check --install=check:MSPrep.install-out.txt --library=/home/biocbuild/R/R-4.3.1/site-library --timings MSPrep_1.11.0.tar.gz
StartedAt: 2023-09-29 09:28:04 -0000 (Fri, 29 Sep 2023)
EndedAt: 2023-09-29 09:41:50 -0000 (Fri, 29 Sep 2023)
EllapsedTime: 825.9 seconds
RetCode: 1
Status:   ERROR  
CheckDir: MSPrep.Rcheck
Warnings: NA

Command output

##############################################################################
##############################################################################
###
### Running command:
###
###   /home/biocbuild/R/R-4.3.1/bin/R CMD check --install=check:MSPrep.install-out.txt --library=/home/biocbuild/R/R-4.3.1/site-library --timings MSPrep_1.11.0.tar.gz
###
##############################################################################
##############################################################################


* using log directory ‘/home/biocbuild/bbs-3.18-bioc/meat/MSPrep.Rcheck’
* using R version 4.3.1 (2023-06-16)
* using platform: aarch64-unknown-linux-gnu (64-bit)
* R was compiled by
    gcc (GCC) 10.3.1
    GNU Fortran (GCC) 10.3.1
* running under: openEuler 22.03 (LTS-SP1)
* using session charset: UTF-8
* checking for file ‘MSPrep/DESCRIPTION’ ... OK
* this is package ‘MSPrep’ version ‘1.11.0’
* package encoding: UTF-8
* checking package namespace information ... OK
* checking package dependencies ... OK
* checking if this is a source package ... OK
* checking if there is a namespace ... OK
* checking for hidden files and directories ... OK
* checking for portable file names ... OK
* checking for sufficient/correct file permissions ... OK
* checking whether package ‘MSPrep’ can be installed ... OK
* checking installed package size ... OK
* checking package directory ... OK
* checking ‘build’ directory ... OK
* checking DESCRIPTION meta-information ... OK
* checking top-level files ... OK
* checking for left-over files ... OK
* checking index information ... OK
* checking package subdirectories ... OK
* checking R files for non-ASCII characters ... OK
* checking R files for syntax errors ... OK
* checking whether the package can be loaded ... OK
* checking whether the package can be loaded with stated dependencies ... OK
* checking whether the package can be unloaded cleanly ... OK
* checking whether the namespace can be loaded with stated dependencies ... OK
* checking whether the namespace can be unloaded cleanly ... OK
* checking loading without being on the library search path ... OK
* checking dependencies in R code ... OK
* checking S3 generic/method consistency ... OK
* checking replacement functions ... OK
* checking foreign function calls ... OK
* checking R code for possible problems ... OK
* checking Rd files ... OK
* checking Rd metadata ... OK
* checking Rd cross-references ... OK
* checking for missing documentation entries ... OK
* checking for code/documentation mismatches ... OK
* checking Rd \usage sections ... OK
* checking Rd contents ... OK
* checking for unstated dependencies in examples ... OK
* checking contents of ‘data’ directory ... OK
* checking data for non-ASCII characters ... OK
* checking data for ASCII and uncompressed saves ... OK
* checking files in ‘vignettes’ ... OK
* checking examples ... OK
Examples with CPU (user + system) or elapsed time > 5s
              user system elapsed
msImpute    30.837  0.519  31.421
MSPrep      27.854  0.511  28.423
msPrepare   21.038  0.060  21.140
msNormalize 19.816  0.231  20.088
msFilter    19.819  0.160  20.019
msSummarize 19.135  0.108  19.302
* checking for unstated dependencies in ‘tests’ ... OK
* checking tests ...
  Running ‘testthat.R’
 ERROR
Running the tests in ‘tests/testthat.R’ failed.
Last 13 lines of output:
  Iteration (out of 5 ):1  2  3  4  5  Found 7 genes with uniform expression within a single batch (all zeros); these will not be adjusted for batch.
  Number of significant surrogate variables is:  5 
  Iteration (out of 5 ):1  2  3  4  5  
  [ FAIL 1 | WARN 12 | SKIP 0 | PASS 83 ]
  
  ══ Failed tests ════════════════════════════════════════════════════════════════
  ── Failure ('test_sedf_equality.R:246:5'): Check msNormalize(sva) ──────────────
  identical(...) is not TRUE
  
  `actual`:   FALSE
  `expected`: TRUE 
  
  [ FAIL 1 | WARN 12 | SKIP 0 | PASS 83 ]
  Error: Test failures
  Execution halted
* checking for unstated dependencies in vignettes ... OK
* checking package vignettes in ‘inst/doc’ ... OK
* checking running R code from vignettes ...
  ‘using_MSPrep.Rmd’ using ‘UTF-8’... OK
 NONE
* checking re-building of vignette outputs ... OK
* checking PDF version of manual ... OK
* DONE

Status: 1 ERROR
See
  ‘/home/biocbuild/bbs-3.18-bioc/meat/MSPrep.Rcheck/00check.log’
for details.


Installation output

MSPrep.Rcheck/00install.out

##############################################################################
##############################################################################
###
### Running command:
###
###   /home/biocbuild/R/R-4.3.1/bin/R CMD INSTALL MSPrep
###
##############################################################################
##############################################################################


* installing to library ‘/home/biocbuild/R/R-4.3.1/site-library’
* installing *source* package ‘MSPrep’ ...
** using staged installation
** R
** data
** byte-compile and prepare package for lazy loading
** help
*** installing help indices
** building package indices
** installing vignettes
** testing if installed package can be loaded from temporary location
** testing if installed package can be loaded from final location
** testing if installed package keeps a record of temporary installation path
* DONE (MSPrep)

Tests output

MSPrep.Rcheck/tests/testthat.Rout.fail


R version 4.3.1 (2023-06-16) -- "Beagle Scouts"
Copyright (C) 2023 The R Foundation for Statistical Computing
Platform: aarch64-unknown-linux-gnu (64-bit)

R is free software and comes with ABSOLUTELY NO WARRANTY.
You are welcome to redistribute it under certain conditions.
Type 'license()' or 'licence()' for distribution details.

R is a collaborative project with many contributors.
Type 'contributors()' for more information and
'citation()' on how to cite R or R packages in publications.

Type 'demo()' for some demos, 'help()' for on-line help, or
'help.start()' for an HTML browser interface to help.
Type 'q()' to quit R.

> Sys.setenv(R_TESTS="")
> library(testthat)
> library(MSPrep)
The legacy packages maptools, rgdal, and rgeos, underpinning the sp package,
which was just loaded, will retire in October 2023.
Please refer to R-spatial evolution reports for details, especially
https://r-spatial.org/r/2023/05/15/evolution4.html.
It may be desirable to make the sf package available;
package maintainers should consider adding sf to Suggests:.
The sp package is now running under evolution status 2
     (status 2 uses the sf package in place of rgdal)
> 
> test_check("MSPrep")
Number of significant surrogate variables is:  4 
Iteration (out of 5 ):1  2  3  4  5  Found 7 genes with uniform expression within a single batch (all zeros); these will not be adjusted for batch.
Number of significant surrogate variables is:  4 
Iteration (out of 5 ):1  2  3  4  5  
Number of significant surrogate variables is:  5 
Iteration (out of 5 ):1  2  3  4  5  Found 7 genes with uniform expression within a single batch (all zeros); these will not be adjusted for batch.
Number of significant surrogate variables is:  5 
Iteration (out of 5 ):1  2  3  4  5  
[ FAIL 1 | WARN 12 | SKIP 0 | PASS 83 ]

══ Failed tests ════════════════════════════════════════════════════════════════
── Failure ('test_sedf_equality.R:246:5'): Check msNormalize(sva) ──────────────
identical(...) is not TRUE

`actual`:   FALSE
`expected`: TRUE 

[ FAIL 1 | WARN 12 | SKIP 0 | PASS 83 ]
Error: Test failures
Execution halted

Example timings

MSPrep.Rcheck/MSPrep-Ex.timings

nameusersystemelapsed
COPD_1310.2920.0040.297
MSPrep27.854 0.51128.423
msFilter19.819 0.16020.019
msImpute30.837 0.51931.421
msNormalize19.816 0.23120.088
msPrepare21.038 0.06021.140
msSummarize19.135 0.10819.302
msquant0.1000.0000.103