Name | Last modified | Size | Description | |
---|---|---|---|---|
Parent Directory | - | |||
buildsrc-out.txt | 16-Jun-2024 01:33 | 914 | ||
buildsrc-summary.dcf | 16-Jun-2024 01:33 | 416 | ||
checksrc-out.txt | 16-Jun-2024 01:33 | 4.9K | ||
checksrc-summary.dcf | 16-Jun-2024 01:33 | 410 | ||
install-out.txt | 16-Jun-2024 01:33 | 2.0K | ||
install-summary.dcf | 16-Jun-2024 01:33 | 254 | ||