Name | Last modified | Size | Description | |
---|---|---|---|---|
Parent Directory | - | |||
checksrc-out.txt | 05-Jun-2024 03:35 | 5.3K | ||
checksrc-summary.dcf | 05-Jun-2024 03:35 | 441 | ||
buildbin-out.txt | 05-Jun-2024 03:35 | 4.3K | ||
buildbin-summary.dcf | 05-Jun-2024 03:35 | 515 | ||
install-out.txt | 12-Jun-2024 04:42 | 2.3K | ||
install-summary.dcf | 12-Jun-2024 04:42 | 265 | ||
buildsrc-out.txt | 12-Jun-2024 04:42 | 1.5K | ||
buildsrc-summary.dcf | 12-Jun-2024 04:42 | 340 | ||