Index of /checkResults/devel/bioc-LATEST/MMUPHin/raw-results/kunpeng2

[ICO]NameLast modifiedSizeDescription

[DIR]Parent Directory  -  
[   ]install-summary.dcf07-Jul-2024 00:44 246  
[   ]buildsrc-summary.dcf09-Jul-2024 00:45 405  
[   ]checksrc-summary.dcf09-Jul-2024 00:45 405  
[TXT]buildsrc-out.txt09-Jul-2024 00:45 857  
[TXT]install-out.txt07-Jul-2024 00:44 954  
[TXT]checksrc-out.txt09-Jul-2024 00:45 4.7K