Index of /checkResults/devel/bioc-LATEST/MMUPHin/raw-results/kjohnson3

[ICO]NameLast modifiedSizeDescription

[DIR]Parent Directory  -  
[TXT]buildbin-out.txt19-Jul-2024 00:42 1.2K 
[   ]buildbin-summary.dcf19-Jul-2024 00:42 529  
[TXT]buildsrc-out.txt19-Jul-2024 00:42 879  
[   ]buildsrc-summary.dcf19-Jul-2024 00:42 427  
[TXT]checksrc-out.txt19-Jul-2024 00:42 4.6K 
[   ]checksrc-summary.dcf19-Jul-2024 00:42 443  
[TXT]install-out.txt19-Jul-2024 00:42 1.0K 
[   ]install-summary.dcf19-Jul-2024 00:42 268