Index of /checkResults/devel/bioc-LATEST/MMAPPR2/raw-results/nebbiolo2

[ICO]NameLast modifiedSizeDescription

[DIR]Parent Directory  -  
[TXT]buildsrc-out.txt03-Oct-2023 00:36 4.7K 
[   ]buildsrc-summary.dcf03-Oct-2023 00:36 333  
[TXT]install-out.txt03-Oct-2023 00:36 952  
[   ]install-summary.dcf03-Oct-2023 00:36 259