Index of /checkResults/devel/bioc-LATEST/MMAPPR2/raw-results/nebbiolo1
Name
Last modified
Size
Description
Parent Directory
-
buildsrc-out.txt
29-Mar-2024 00:36
3.4K
buildsrc-summary.dcf
29-Mar-2024 00:36
333
install-out.txt
29-Mar-2024 00:36
1.2K
install-summary.dcf
29-Mar-2024 00:36
259