Index of /checkResults/devel/bioc-LATEST/MMAPPR2/raw-results/lconway

[ICO]NameLast modifiedSizeDescription

[DIR]Parent Directory  -  
[TXT]buildsrc-out.txt03-Oct-2023 00:39 888  
[   ]buildsrc-summary.dcf03-Oct-2023 00:39 342  
[TXT]install-out.txt03-Oct-2023 00:39 693  
[   ]install-summary.dcf03-Oct-2023 00:39 271