Index of /checkResults/devel/bioc-LATEST/MMAPPR2/raw-results
Name
Last modified
Size
Description
Parent Directory
-
nebbiolo2/
29-Sep-2023 00:36
-
lconway/
29-Sep-2023 00:39
-
info.dcf
29-Sep-2023 00:40
258
kunpeng2/
29-Sep-2023 00:40
-