Index of /checkResults/devel/bioc-LATEST/MMAPPR2/raw-results

[ICO]NameLast modifiedSizeDescription

[DIR]Parent Directory  -  
[   ]info.dcf29-May-2022 00:08 259  
[DIR]lconway/29-May-2022 00:08 -  
[DIR]nebbiolo2/29-May-2022 00:05 -