Back to Multiple platform build/check report for BioC 3.14
ABCDEFGHIJKL[M]NOPQRSTUVWXYZ

This page was generated on 2021-10-21 12:04:54 -0400 (Thu, 21 Oct 2021).

BUILD results for MLSeq on riesling1

To the developers/maintainers of the MLSeq package:
- Please allow up to 24 hours (and sometimes 48 hours) for your latest push to git@git.bioconductor.org:packages/MLSeq.git to
reflect on this report. See How and When does the builder pull? When will my changes propagate? here for more information.
- Make sure to use the following settings in order to reproduce any error or warning you see on this page.

raw results

Package 1177/2075HostnameOS / ArchINSTALLBUILDCHECKBUILD BIN
MLSeq 2.11.1  (landing page)
Gokmen Zararsiz
Snapshot Date: 2021-10-20 14:50:05 -0400 (Wed, 20 Oct 2021)
git_url: https://git.bioconductor.org/packages/MLSeq
git_branch: master
git_last_commit: e0cd2ac
git_last_commit_date: 2021-08-14 08:43:12 -0400 (Sat, 14 Aug 2021)
nebbiolo2Linux (Ubuntu 20.04.2 LTS) / x86_64  OK    OK    OK  UNNEEDED, same version is already published
riesling1Windows Server 2019 Standard / x64  OK    OK    OK    OK  UNNEEDED, same version is already published
merida1macOS 10.14.6 Mojave / x86_64  OK    OK    OK    NA  

Summary

Package: MLSeq
Version: 2.11.1
Command: chmod a+r MLSeq -R && D:\biocbuild\bbs-3.14-bioc\R\bin\R.exe CMD build --keep-empty-dirs --no-resave-data MLSeq
StartedAt: 2021-10-20 22:13:18 -0400 (Wed, 20 Oct 2021)
EndedAt: 2021-10-20 22:17:33 -0400 (Wed, 20 Oct 2021)
EllapsedTime: 255.2 seconds
RetCode: 0
Status:   OK  
PackageFile: MLSeq_2.11.1.tar.gz
PackageFileSize: 518.1 KiB

Command output

##############################################################################
##############################################################################
###
### Running command:
###
###   chmod a+r MLSeq -R && D:\biocbuild\bbs-3.14-bioc\R\bin\R.exe CMD build --keep-empty-dirs --no-resave-data MLSeq
###
##############################################################################
##############################################################################


* checking for file 'MLSeq/DESCRIPTION' ... OK
* preparing 'MLSeq':
* checking DESCRIPTION meta-information ... OK
* installing the package to build vignettes
* creating vignettes ... OK
* checking for LF line-endings in source and make files and shell scripts
* checking for empty or unneeded directories
* looking to see if a 'data/datalist' file should be added
* building 'MLSeq_2.11.1.tar.gz'