Back to Multiple platform build/check report for BioC 3.14
ABCDEFGHIJKL[M]NOPQRSTUVWXYZ

This page was generated on 2021-10-23 14:06:34 -0400 (Sat, 23 Oct 2021).

BUILD BIN results for MLSeq on riesling1

To the developers/maintainers of the MLSeq package:
- Please allow up to 24 hours (and sometimes 48 hours) for your latest push to git@git.bioconductor.org:packages/MLSeq.git to
reflect on this report. See How and When does the builder pull? When will my changes propagate? here for more information.
- Make sure to use the following settings in order to reproduce any error or warning you see on this page.

raw results

Package 1181/2083HostnameOS / ArchINSTALLBUILDCHECKBUILD BIN
MLSeq 2.11.1  (landing page)
Gokmen Zararsiz
Snapshot Date: 2021-10-22 14:50:11 -0400 (Fri, 22 Oct 2021)
git_url: https://git.bioconductor.org/packages/MLSeq
git_branch: master
git_last_commit: e0cd2ac
git_last_commit_date: 2021-08-14 08:43:12 -0400 (Sat, 14 Aug 2021)
nebbiolo2Linux (Ubuntu 20.04.2 LTS) / x86_64  OK    OK    OK  UNNEEDED, same version is already published
riesling1Windows Server 2019 Standard / x64  OK    OK    OK    OK  UNNEEDED, same version is already published
merida1macOS 10.14.6 Mojave / x86_64  OK    OK    OK    OK  UNNEEDED, same version is already published

Summary

Package: MLSeq
Version: 2.11.1
Command: rm -rf MLSeq.buildbin-libdir && mkdir MLSeq.buildbin-libdir && D:\biocbuild\bbs-3.14-bioc\R\bin\R.exe CMD INSTALL --merge-multiarch --build --library=MLSeq.buildbin-libdir MLSeq_2.11.1.tar.gz
StartedAt: 2021-10-23 11:43:46 -0400 (Sat, 23 Oct 2021)
EndedAt: 2021-10-23 11:47:49 -0400 (Sat, 23 Oct 2021)
EllapsedTime: 243.1 seconds
RetCode: 0
Status:   OK  
PackageFile: MLSeq_2.11.1.zip
PackageFileSize: 1.082 MiB

Command output

##############################################################################
##############################################################################
###
### Running command:
###
###   rm -rf MLSeq.buildbin-libdir && mkdir MLSeq.buildbin-libdir && D:\biocbuild\bbs-3.14-bioc\R\bin\R.exe CMD INSTALL --merge-multiarch --build --library=MLSeq.buildbin-libdir MLSeq_2.11.1.tar.gz
###
##############################################################################
##############################################################################



install for i386

* installing *source* package 'MLSeq' ...
** using staged installation
** R
** data
** inst
** byte-compile and prepare package for lazy loading
** help
*** installing help indices
  converting help for package 'MLSeq'
    finding HTML links ... done
    Available-classifiers                   html  
    MLSeq-class                             html  
    MLSeq-package                           html  
    MLSeqMetaData-class                     html  
    MLSeqModelInfo-class                    html  
    cervical                                html  
    classify                                html  
    confusionMat                            html  
    control                                 html  
    discrete.train-class                    html  
    discreteControl                         html  
    input                                   html  
    isUpdated                               html  
    metaData                                html  
    method                                  html  
    modelInfo                               html  
    normalization                           html  
    plot                                    html  
    preProcessing                           html  
    predict                                 html  
    print                                   html  
    ref                                     html  
    selectedGenes                           html  
    show                                    html  
    trainParameters                         html  
    trained                                 html  
    transformation                          html  
    update                                  html  
    voom.train-class                        html  
    voomControl                             html  
** building package indices
** installing vignettes
** testing if installed package can be loaded from temporary location
** testing if installed package can be loaded from final location
** testing if installed package keeps a record of temporary installation path

install for x64

* installing *source* package 'MLSeq' ...
** testing if installed package can be loaded
* MD5 sums
packaged installation of 'MLSeq' as MLSeq_2.11.1.zip
* DONE (MLSeq)