Back to Multiple platform build/check report for BioC 3.15
ABCDEFGHIJKL[M]NOPQRSTUVWXYZ

This page was generated on 2022-01-21 11:08:02 -0500 (Fri, 21 Jan 2022).

HostnameOSArch (*)R versionInstalled pkgs
nebbiolo1Linux (Ubuntu 20.04.4 LTS)x86_64R Under development (unstable) (2022-01-05 r81451) -- "Unsuffered Consequences" 4163
riesling1Windows Server 2019 Standardx64R Under development (unstable) (2021-11-21 r81221) -- "Unsuffered Consequences" 4058
palomino3Windows Server 2022 Datacenterx64R Under development (unstable) (2021-12-21 r81400 ucrt) -- "Unsuffered Consequences" 4000
merida1macOS 10.14.6 Mojavex86_64R Under development (unstable) (2022-01-05 r81451) -- "Unsuffered Consequences" 4117
Click on any hostname to see more info about the system (e.g. compilers)      (*) as reported by 'uname -p', except on Windows and Mac OS X

BUILD BIN results for MLP on riesling1


To the developers/maintainers of the MLP package:
- Please allow up to 24 hours (and sometimes 48 hours) for your latest push to git@git.bioconductor.org:packages/MLP.git to
reflect on this report. See How and When does the builder pull? When will my changes propagate? here for more information.
- Make sure to use the following settings in order to reproduce any error or warning you see on this page.

raw results

Package 1177/2075HostnameOS / ArchINSTALLBUILDCHECKBUILD BIN
MLP 1.43.1  (landing page)
Tobias Verbeke
Snapshot Date: 2022-01-20 13:55:17 -0500 (Thu, 20 Jan 2022)
git_url: https://git.bioconductor.org/packages/MLP
git_branch: master
git_last_commit: b108216
git_last_commit_date: 2021-11-19 09:37:31 -0500 (Fri, 19 Nov 2021)
nebbiolo1Linux (Ubuntu 20.04.4 LTS) / x86_64  OK    OK    OK  UNNEEDED, same version is already published
riesling1Windows Server 2019 Standard / x64  OK    OK    OK    OK  
palomino3Windows Server 2022 Datacenter / x64  OK    OK    OK    OK  NO, package depends on 'AnnotationDbi' which is not available
merida1macOS 10.14.6 Mojave / x86_64  OK    OK    OK    OK  UNNEEDED, same version is already published

Summary

Package: MLP
Version: 1.43.1
Command: rm -rf MLP.buildbin-libdir && mkdir MLP.buildbin-libdir && D:\biocbuild\bbs-3.15-bioc\R\bin\R.exe CMD INSTALL --build --library=MLP.buildbin-libdir MLP_1.43.1.tar.gz
StartedAt: 2022-01-20 21:05:06 -0500 (Thu, 20 Jan 2022)
EndedAt: 2022-01-20 21:06:10 -0500 (Thu, 20 Jan 2022)
EllapsedTime: 64.7 seconds
RetCode: 0
Status:   OK  
PackageFile: MLP_1.43.1.zip
PackageFileSize: 4.265 MiB

Command output

##############################################################################
##############################################################################
###
### Running command:
###
###   rm -rf MLP.buildbin-libdir && mkdir MLP.buildbin-libdir && D:\biocbuild\bbs-3.15-bioc\R\bin\R.exe CMD INSTALL --build --library=MLP.buildbin-libdir MLP_1.43.1.tar.gz
###
##############################################################################
##############################################################################


* installing *source* package 'MLP' ...
** using staged installation
** R
** inst
** byte-compile and prepare package for lazy loading
** help
*** installing help indices
  converting help for package 'MLP'
    finding HTML links ... done
    MLP                                     html  
    addGeneSetDescription                   html  
    getGeneSets                             html  
    mlpBarplot                              html  
    plot.MLP                                html  
    plotGOgraph                             html  
    plotGeneSetSignificance                 html  
** building package indices
** installing vignettes
** testing if installed package can be loaded from temporary location
** testing if installed package can be loaded from final location
** testing if installed package keeps a record of temporary installation path
* MD5 sums
packaged installation of 'MLP' as MLP_1.43.1.zip
* DONE (MLP)