![]() | Name | Last modified | Size | Description |
---|---|---|---|---|
![]() | Parent Directory | - | ||
![]() | buildbin-out.txt | 29-Sep-2023 00:38 | 1.0K | |
![]() | buildbin-summary.dcf | 29-Sep-2023 00:38 | 491 | |
![]() | buildsrc-out.txt | 29-Sep-2023 00:38 | 819 | |
![]() | buildsrc-summary.dcf | 29-Sep-2023 00:38 | 436 | |
![]() | checksrc-out.txt | 29-Sep-2023 00:38 | 3.4K | |
![]() | checksrc-summary.dcf | 29-Sep-2023 00:38 | 431 | |
![]() | install-out.txt | 29-Sep-2023 00:38 | 950 | |
![]() | install-summary.dcf | 29-Sep-2023 00:38 | 260 | |