![]() | Name | Last modified | Size | Description |
---|---|---|---|---|
![]() | Parent Directory | - | ||
![]() | buildsrc-out.txt | 29-Sep-2023 00:36 | 790 | |
![]() | buildsrc-summary.dcf | 29-Sep-2023 00:36 | 404 | |
![]() | checksrc-out.txt | 29-Sep-2023 00:36 | 3.4K | |
![]() | checksrc-summary.dcf | 29-Sep-2023 00:36 | 398 | |
![]() | install-out.txt | 29-Sep-2023 00:36 | 940 | |
![]() | install-summary.dcf | 29-Sep-2023 00:36 | 251 | |