Index of /checkResults/devel/bioc-LATEST/MLP/raw-results/kunpeng2

[ICO]NameLast modifiedSizeDescription

[DIR]Parent Directory  -  
[   ]install-summary.dcf18-Feb-2024 16:30 263  
[   ]buildsrc-summary.dcf18-Feb-2024 16:30 417  
[   ]checksrc-summary.dcf18-Feb-2024 16:30 437  
[TXT]buildsrc-out.txt18-Feb-2024 16:30 802  
[TXT]install-out.txt18-Feb-2024 16:30 964  
[TXT]checksrc-out.txt18-Feb-2024 16:30 3.4K