![]() | Name | Last modified | Size | Description |
---|---|---|---|---|
![]() | Parent Directory | - | ||
![]() | buildsrc-out.txt | 07-Dec-2023 01:39 | 799 | |
![]() | buildsrc-summary.dcf | 07-Dec-2023 01:39 | 414 | |
![]() | checksrc-out.txt | 07-Dec-2023 01:39 | 3.4K | |
![]() | checksrc-summary.dcf | 07-Dec-2023 01:39 | 431 | |
![]() | install-out.txt | 07-Dec-2023 01:39 | 958 | |
![]() | install-summary.dcf | 07-Dec-2023 01:39 | 260 | |