Back to Multiple platform build/check report for BioC 3.14
ABCDEFGHIJKL[M]NOPQRSTUVWXYZ

This page was generated on 2021-10-21 12:04:53 -0400 (Thu, 21 Oct 2021).

BUILD BIN results for MIGSA on riesling1

To the developers/maintainers of the MIGSA package:
- Please allow up to 24 hours (and sometimes 48 hours) for your latest push to git@git.bioconductor.org:packages/MIGSA.git to
reflect on this report. See How and When does the builder pull? When will my changes propagate? here for more information.
- Make sure to use the following settings in order to reproduce any error or warning you see on this page.

raw results

Package 1145/2075HostnameOS / ArchINSTALLBUILDCHECKBUILD BIN
MIGSA 1.17.0  (landing page)
Juan C. Rodriguez
Snapshot Date: 2021-10-20 14:50:05 -0400 (Wed, 20 Oct 2021)
git_url: https://git.bioconductor.org/packages/MIGSA
git_branch: master
git_last_commit: a68b34c
git_last_commit_date: 2021-05-19 12:26:14 -0400 (Wed, 19 May 2021)
nebbiolo2Linux (Ubuntu 20.04.2 LTS) / x86_64  OK    OK    OK  UNNEEDED, same version is already published
riesling1Windows Server 2019 Standard / x64  OK    OK    OK    OK  UNNEEDED, same version is already published
merida1macOS 10.14.6 Mojave / x86_64  OK    OK    OK    NA  

Summary

Package: MIGSA
Version: 1.17.0
Command: rm -rf MIGSA.buildbin-libdir && mkdir MIGSA.buildbin-libdir && D:\biocbuild\bbs-3.14-bioc\R\bin\R.exe CMD INSTALL --merge-multiarch --build --library=MIGSA.buildbin-libdir MIGSA_1.17.0.tar.gz
StartedAt: 2021-10-21 07:08:28 -0400 (Thu, 21 Oct 2021)
EndedAt: 2021-10-21 07:12:41 -0400 (Thu, 21 Oct 2021)
EllapsedTime: 252.4 seconds
RetCode: 0
Status:   OK  
PackageFile: MIGSA_1.17.0.zip
PackageFileSize: 3.078 MiB

Command output

##############################################################################
##############################################################################
###
### Running command:
###
###   rm -rf MIGSA.buildbin-libdir && mkdir MIGSA.buildbin-libdir && D:\biocbuild\bbs-3.14-bioc\R\bin\R.exe CMD INSTALL --merge-multiarch --build --library=MIGSA.buildbin-libdir MIGSA_1.17.0.tar.gz
###
##############################################################################
##############################################################################



install for i386

* installing *source* package 'MIGSA' ...
** using staged installation
** R
** data
** inst
** byte-compile and prepare package for lazy loading
** help
*** installing help indices
  converting help for package 'MIGSA'
    finding HTML links ... done
    ExprData-class                          html  
    FitOptions-class                        html  
    GSEAparams-class                        html  
    Genesets-as.Genesets                    html  
    Genesets-enrichr                        html  
    Genesets-geneSetsFromFile               html  
    Genesets-loadGo                         html  
    IGSAinput-class                         html  
    IGSAinput-getDEGenes                    html  
    IGSAinput-getterSetters                 html  
REDIRECT:topic	 Previous alias or file overwritten by alias: D:/biocbuild/bbs-3.14-bioc/meat/MIGSA.buildbin-libdir/00LOCK-MIGSA/00new/MIGSA/help/fitOptions.html
REDIRECT:topic	 Previous alias or file overwritten by alias: D:/biocbuild/bbs-3.14-bioc/meat/MIGSA.buildbin-libdir/00LOCK-MIGSA/00new/MIGSA/help/gseaParams.html
    MIGSA                                   html  
    MIGSAPackage                            html  
    MIGSAmGSZ                               html  
    MIGSAres-GoAnalysis                     html  
    MIGSAres-class                          html  
    MIGSAres-common                         html  
    MIGSAres-genesManipulation              html  
    MIGSAres-getAdditionalInfo              html  
    MIGSAres-plots                          html  
    MIGSAres-setEnrCutoff                   html  
    SEAparams-class                         html  
REDIRECT:topic	 Previous alias or file overwritten by alias: D:/biocbuild/bbs-3.14-bioc/meat/MIGSA.buildbin-libdir/00LOCK-MIGSA/00new/MIGSA/help/SEAparams.html
    bcMigsaRes                              html  
    migsaRes                                html  
    summaryFunctions                        html  
** building package indices
** installing vignettes
** testing if installed package can be loaded from temporary location
** testing if installed package can be loaded from final location
** testing if installed package keeps a record of temporary installation path

install for x64

* installing *source* package 'MIGSA' ...
** testing if installed package can be loaded
* MD5 sums
packaged installation of 'MIGSA' as MIGSA_1.17.0.zip
* DONE (MIGSA)