Back to Multiple platform build/check report for BioC 3.17:   simplified   long
ABCDEFGHIJKL[M]NOPQRSTUVWXYZ

This page was generated on 2023-02-04 11:05:38 -0500 (Sat, 04 Feb 2023).

HostnameOSArch (*)R versionInstalled pkgs
nebbiolo1Linux (Ubuntu 22.04.1 LTS)x86_64R Under development (unstable) (2023-01-10 r83596) -- "Unsuffered Consequences" 4483
palomino3Windows Server 2022 Datacenterx64R Under development (unstable) (2023-01-10 r83596 ucrt) -- "Unsuffered Consequences" 4249
merida1macOS 10.14.6 Mojavex86_64R Under development (unstable) (2023-01-10 r83596) -- "Unsuffered Consequences" 4272
Click on any hostname to see more info about the system (e.g. compilers)      (*) as reported by 'uname -p', except on Windows and Mac OS X

BUILD results for MGFR on palomino3


To the developers/maintainers of the MGFR package:
- Please allow up to 24 hours (and sometimes 48 hours) for your latest push to git@git.bioconductor.org:packages/MGFR.git to
reflect on this report. See How and When does the builder pull? When will my changes propagate? for more information.
- Make sure to use the following settings in order to reproduce any error or warning you see on this page.

raw results

Package 1173/2164HostnameOS / ArchINSTALLBUILDCHECKBUILD BIN
MGFR 1.25.0  (landing page)
Khadija El Amrani
Snapshot Date: 2023-02-03 14:00:22 -0500 (Fri, 03 Feb 2023)
git_url: https://git.bioconductor.org/packages/MGFR
git_branch: master
git_last_commit: 3c79061
git_last_commit_date: 2022-11-01 11:14:00 -0500 (Tue, 01 Nov 2022)
nebbiolo1Linux (Ubuntu 22.04.1 LTS) / x86_64  OK    OK    OK  UNNEEDED, same version is already published
palomino3Windows Server 2022 Datacenter / x64  OK    OK    OK    NA  
merida1macOS 10.14.6 Mojave / x86_64  OK    OK    OK    OK  UNNEEDED, same version is already published

Summary

Package: MGFR
Version: 1.25.0
Command: chmod a+r MGFR -R && F:\biocbuild\bbs-3.17-bioc\R\bin\R.exe CMD build --keep-empty-dirs --no-resave-data MGFR
StartedAt: 2023-02-03 19:59:54 -0500 (Fri, 03 Feb 2023)
EndedAt: 2023-02-03 20:00:39 -0500 (Fri, 03 Feb 2023)
EllapsedTime: 45.0 seconds
RetCode: 0
Status:   OK  
PackageFile: MGFR_1.25.0.tar.gz
PackageFileSize: 1.635 MiB

Command output

##############################################################################
##############################################################################
###
### Running command:
###
###   chmod a+r MGFR -R && F:\biocbuild\bbs-3.17-bioc\R\bin\R.exe CMD build --keep-empty-dirs --no-resave-data MGFR
###
##############################################################################
##############################################################################


* checking for file 'MGFR/DESCRIPTION' ... OK
* preparing 'MGFR':
* checking DESCRIPTION meta-information ... OK
* installing the package to build vignettes
* creating vignettes ... OK
Warning: 'inst/doc' files
    'MGFR.Rnw', 'MGFR.R'
  ignored as vignettes have been rebuilt.
  Run R CMD build with --no-build-vignettes to prevent rebuilding.
* checking for LF line-endings in source and make files and shell scripts
* checking for empty or unneeded directories
* building 'MGFR_1.25.0.tar.gz'