Back to Multiple platform build/check report for BioC 3.14
ABCDEFGHIJKL[M]NOPQRSTUVWXYZ

This page was generated on 2021-10-23 14:06:32 -0400 (Sat, 23 Oct 2021).

BUILD results for MEIGOR on riesling1

To the developers/maintainers of the MEIGOR package:
- Please allow up to 24 hours (and sometimes 48 hours) for your latest push to git@git.bioconductor.org:packages/MEIGOR.git to
reflect on this report. See How and When does the builder pull? When will my changes propagate? here for more information.
- Make sure to use the following settings in order to reproduce any error or warning you see on this page.

raw results

Package 1080/2083HostnameOS / ArchINSTALLBUILDCHECKBUILD BIN
MEIGOR 1.27.0  (landing page)
Jose A. Egea
Snapshot Date: 2021-10-22 14:50:11 -0400 (Fri, 22 Oct 2021)
git_url: https://git.bioconductor.org/packages/MEIGOR
git_branch: master
git_last_commit: a613af8
git_last_commit_date: 2021-05-19 12:06:10 -0400 (Wed, 19 May 2021)
nebbiolo2Linux (Ubuntu 20.04.2 LTS) / x86_64  OK    OK    WARNINGS  UNNEEDED, same version is already published
riesling1Windows Server 2019 Standard / x64  OK    OK    WARNINGS    OK  UNNEEDED, same version is already published
merida1macOS 10.14.6 Mojave / x86_64  OK    OK    WARNINGS    OK  UNNEEDED, same version is already published

Summary

Package: MEIGOR
Version: 1.27.0
Command: chmod a+r MEIGOR -R && D:\biocbuild\bbs-3.14-bioc\R\bin\R.exe CMD build --keep-empty-dirs --no-resave-data MEIGOR
StartedAt: 2021-10-22 21:42:24 -0400 (Fri, 22 Oct 2021)
EndedAt: 2021-10-22 21:46:34 -0400 (Fri, 22 Oct 2021)
EllapsedTime: 249.6 seconds
RetCode: 0
Status:   OK  
PackageFile: MEIGOR_1.27.0.tar.gz
PackageFileSize: 2.296 MiB

Command output

##############################################################################
##############################################################################
###
### Running command:
###
###   chmod a+r MEIGOR -R && D:\biocbuild\bbs-3.14-bioc\R\bin\R.exe CMD build --keep-empty-dirs --no-resave-data MEIGOR
###
##############################################################################
##############################################################################


* checking for file 'MEIGOR/DESCRIPTION' ... OK
* preparing 'MEIGOR':
* checking DESCRIPTION meta-information ... OK
* installing the package to build vignettes
* creating vignettes ... OK
Warning: 'inst/doc' files
    'MEIGOR-vignette.Rnw', 'MEIGOR-vignette.pdf', 'MEIGOR-vignette.R'
  ignored as vignettes have been rebuilt.
  Run R CMD build with --no-build-vignettes to prevent rebuilding.
* checking for LF line-endings in source and make files and shell scripts
* checking for empty or unneeded directories
* looking to see if a 'data/datalist' file should be added
* building 'MEIGOR_1.27.0.tar.gz'