Index of /checkResults/devel/bioc-LATEST/MEIGOR/raw-results/nebbiolo1
Name
Last modified
Size
Description
Parent Directory
-
buildsrc-out.txt
29-Mar-2024 00:36
1.4K
buildsrc-summary.dcf
29-Mar-2024 00:36
331
install-out.txt
29-Mar-2024 00:36
1.3K
install-summary.dcf
29-Mar-2024 00:36
256