Back to Multiple platform build/check report for BioC 3.14
ABCDEFGHIJKL[M]NOPQRSTUVWXYZ

This page was generated on 2021-10-20 12:05:14 -0400 (Wed, 20 Oct 2021).

BUILD BIN results for MEDIPS on riesling1

To the developers/maintainers of the MEDIPS package:
- Please allow up to 24 hours (and sometimes 48 hours) for your latest push to git@git.bioconductor.org:packages/MEDIPS.git to
reflect on this report. See How and When does the builder pull? When will my changes propagate? here for more information.
- Make sure to use the following settings in order to reproduce any error or warning you see on this page.

raw results

Package 1072/2072HostnameOS / ArchINSTALLBUILDCHECKBUILD BIN
MEDIPS 1.45.0  (landing page)
Lukas Chavez
Snapshot Date: 2021-10-19 14:50:04 -0400 (Tue, 19 Oct 2021)
git_url: https://git.bioconductor.org/packages/MEDIPS
git_branch: master
git_last_commit: ad46924
git_last_commit_date: 2021-05-19 11:46:46 -0400 (Wed, 19 May 2021)
nebbiolo2Linux (Ubuntu 20.04.2 LTS) / x86_64  OK    OK    OK  UNNEEDED, same version is already published
riesling1Windows Server 2019 Standard / x64  OK    OK    OK    OK  UNNEEDED, same version is already published
merida1macOS 10.14.6 Mojave / x86_64  OK    OK    OK    NA  

Summary

Package: MEDIPS
Version: 1.45.0
Command: rm -rf MEDIPS.buildbin-libdir && mkdir MEDIPS.buildbin-libdir && D:\biocbuild\bbs-3.14-bioc\R\bin\R.exe CMD INSTALL --merge-multiarch --build --library=MEDIPS.buildbin-libdir MEDIPS_1.45.0.tar.gz
StartedAt: 2021-10-20 06:48:52 -0400 (Wed, 20 Oct 2021)
EndedAt: 2021-10-20 06:52:50 -0400 (Wed, 20 Oct 2021)
EllapsedTime: 238.0 seconds
RetCode: 0
Status:   OK  
PackageFile: MEDIPS_1.45.0.zip
PackageFileSize: 804.4 KiB

Command output

##############################################################################
##############################################################################
###
### Running command:
###
###   rm -rf MEDIPS.buildbin-libdir && mkdir MEDIPS.buildbin-libdir && D:\biocbuild\bbs-3.14-bioc\R\bin\R.exe CMD INSTALL --merge-multiarch --build --library=MEDIPS.buildbin-libdir MEDIPS_1.45.0.tar.gz
###
##############################################################################
##############################################################################



install for i386

* installing *source* package 'MEDIPS' ...
** using staged installation
** R
** inst
** byte-compile and prepare package for lazy loading
No methods found in package 'IRanges' for request: 'values' when loading 'MEDIPS'
** help
*** installing help indices
  converting help for package 'MEDIPS'
    finding HTML links ... done
    COUPLINGset-class                       html  
    MEDIPS-package                          html  
    MEDIPS.CpGenrich                        html  
    MEDIPS.addCNV                           html  
    MEDIPS.correlation                      html  
    MEDIPS.couplingVector                   html  
    MEDIPS.createROIset                     html  
    MEDIPS.createSet                        html  
    MEDIPS.exportWIG                        html  
    MEDIPS.getAnnotation                    html  
    MEDIPS.mergeFrames                      html  
    MEDIPS.mergeSets                        html  
    MEDIPS.meth                             html  
    MEDIPS.plotCalibrationPlot              html  
    MEDIPS.plotSaturation                   html  
    MEDIPS.plotSeqCoverage                  html  
    MEDIPS.saturation                       html  
    MEDIPS.selectROIs                       html  
    MEDIPS.selectSig                        html  
    MEDIPS.seqCoverage                      html  
    MEDIPS.setAnnotation                    html  
    MEDIPSroiSet-class                      html  
    MEDIPSset-class                         html  
** building package indices
** installing vignettes
** testing if installed package can be loaded from temporary location
No methods found in package 'IRanges' for request: 'values' when loading 'MEDIPS'
** testing if installed package can be loaded from final location
No methods found in package 'IRanges' for request: 'values' when loading 'MEDIPS'
** testing if installed package keeps a record of temporary installation path

install for x64

* installing *source* package 'MEDIPS' ...
** testing if installed package can be loaded
No methods found in package 'IRanges' for request: 'values' when loading 'MEDIPS'
* MD5 sums
packaged installation of 'MEDIPS' as MEDIPS_1.45.0.zip
* DONE (MEDIPS)