Back to Multiple platform build/check report for BioC 3.15
ABCDEFGHIJKL[M]NOPQRSTUVWXYZ

This page was generated on 2022-01-17 11:07:43 -0500 (Mon, 17 Jan 2022).

HostnameOSArch (*)R versionInstalled pkgs
nebbiolo1Linux (Ubuntu 20.04.4 LTS)x86_64R Under development (unstable) (2022-01-05 r81451) -- "Unsuffered Consequences" 4161
riesling1Windows Server 2019 Standardx64R Under development (unstable) (2021-11-21 r81221) -- "Unsuffered Consequences" 4056
palomino3Windows Server 2022 Datacenterx64R Under development (unstable) (2021-12-21 r81400 ucrt) -- "Unsuffered Consequences" 3998
merida1macOS 10.14.6 Mojavex86_64R Under development (unstable) (2022-01-05 r81451) -- "Unsuffered Consequences" 4115
Click on any hostname to see more info about the system (e.g. compilers)      (*) as reported by 'uname -p', except on Windows and Mac OS X

BUILD BIN results for MEB on riesling1


To the developers/maintainers of the MEB package:
- Please allow up to 24 hours (and sometimes 48 hours) for your latest push to git@git.bioconductor.org:packages/MEB.git to
reflect on this report. See How and When does the builder pull? When will my changes propagate? here for more information.
- Make sure to use the following settings in order to reproduce any error or warning you see on this page.

raw results

Package 1073/2074HostnameOS / ArchINSTALLBUILDCHECKBUILD BIN
MEB 1.9.1  (landing page)
Jiadi Zhu
Snapshot Date: 2022-01-16 13:55:18 -0500 (Sun, 16 Jan 2022)
git_url: https://git.bioconductor.org/packages/MEB
git_branch: master
git_last_commit: ff23de5
git_last_commit_date: 2021-11-21 00:31:02 -0500 (Sun, 21 Nov 2021)
nebbiolo1Linux (Ubuntu 20.04.4 LTS) / x86_64  OK    OK    OK  UNNEEDED, same version is already published
riesling1Windows Server 2019 Standard / x64  OK    OK    OK    OK  
palomino3Windows Server 2022 Datacenter / x64  OK    OK    OK    OK  NO, package depends on 'SummarizedExperiment' which is not available
merida1macOS 10.14.6 Mojave / x86_64  OK    OK    OK    OK  UNNEEDED, same version is already published

Summary

Package: MEB
Version: 1.9.1
Command: rm -rf MEB.buildbin-libdir && mkdir MEB.buildbin-libdir && D:\biocbuild\bbs-3.15-bioc\R\bin\R.exe CMD INSTALL --build --library=MEB.buildbin-libdir MEB_1.9.1.tar.gz
StartedAt: 2022-01-16 21:08:03 -0500 (Sun, 16 Jan 2022)
EndedAt: 2022-01-16 21:09:05 -0500 (Sun, 16 Jan 2022)
EllapsedTime: 61.7 seconds
RetCode: 0
Status:   OK  
PackageFile: MEB_1.9.1.zip
PackageFileSize: 1.071 MiB

Command output

##############################################################################
##############################################################################
###
### Running command:
###
###   rm -rf MEB.buildbin-libdir && mkdir MEB.buildbin-libdir && D:\biocbuild\bbs-3.15-bioc\R\bin\R.exe CMD INSTALL --build --library=MEB.buildbin-libdir MEB_1.9.1.tar.gz
###
##############################################################################
##############################################################################


* installing *source* package 'MEB' ...
** using staged installation
** R
** data
*** moving datasets to lazyload DB
** inst
** byte-compile and prepare package for lazy loading
** help
*** installing help indices
  converting help for package 'MEB'
    finding HTML links ... done
    NIMEB                                   html  
    real_data_dsp                           html  
    real_data_sp                            html  
    sim_data_dsp                            html  
    sim_data_sp                             html  
** building package indices
** installing vignettes
** testing if installed package can be loaded from temporary location
** testing if installed package can be loaded from final location
** testing if installed package keeps a record of temporary installation path
* MD5 sums
packaged installation of 'MEB' as MEB_1.9.1.zip
* DONE (MEB)