Back to Multiple platform build/check report for BioC 3.15
ABCDEFGHIJKL[M]NOPQRSTUVWXYZ

This page was generated on 2022-01-25 11:07:38 -0500 (Tue, 25 Jan 2022).

HostnameOSArch (*)R versionInstalled pkgs
nebbiolo1Linux (Ubuntu 20.04.4 LTS)x86_64R Under development (unstable) (2022-01-05 r81451) -- "Unsuffered Consequences" 4164
riesling1Windows Server 2019 Standardx64R Under development (unstable) (2021-11-21 r81221) -- "Unsuffered Consequences" 4059
palomino3Windows Server 2022 Datacenterx64R Under development (unstable) (2021-12-21 r81400 ucrt) -- "Unsuffered Consequences" 4001
merida1macOS 10.14.6 Mojavex86_64R Under development (unstable) (2022-01-05 r81451) -- "Unsuffered Consequences" 4118
Click on any hostname to see more info about the system (e.g. compilers)      (*) as reported by 'uname -p', except on Windows and Mac OS X

BUILD BIN results for MCbiclust on riesling1


To the developers/maintainers of the MCbiclust package:
- Please allow up to 24 hours (and sometimes 48 hours) for your latest push to git@git.bioconductor.org:packages/MCbiclust.git to
reflect on this report. See How and When does the builder pull? When will my changes propagate? here for more information.
- Make sure to use the following settings in order to reproduce any error or warning you see on this page.

raw results

Package 1065/2075HostnameOS / ArchINSTALLBUILDCHECKBUILD BIN
MCbiclust 1.19.0  (landing page)
Robert Bentham
Snapshot Date: 2022-01-24 13:55:18 -0500 (Mon, 24 Jan 2022)
git_url: https://git.bioconductor.org/packages/MCbiclust
git_branch: master
git_last_commit: c69c859
git_last_commit_date: 2021-10-26 12:32:51 -0500 (Tue, 26 Oct 2021)
nebbiolo1Linux (Ubuntu 20.04.4 LTS) / x86_64  OK    OK    OK  UNNEEDED, same version is already published
riesling1Windows Server 2019 Standard / x64  OK    OK    OK    OK  
palomino3Windows Server 2022 Datacenter / x64  OK    OK    OK    OK  NO, package depends on 'AnnotationDbi' which is not available
merida1macOS 10.14.6 Mojave / x86_64  OK    OK    OK    OK  UNNEEDED, same version is already published

Summary

Package: MCbiclust
Version: 1.19.0
Command: rm -rf MCbiclust.buildbin-libdir && mkdir MCbiclust.buildbin-libdir && D:\biocbuild\bbs-3.15-bioc\R\bin\R.exe CMD INSTALL --build --library=MCbiclust.buildbin-libdir MCbiclust_1.19.0.tar.gz
StartedAt: 2022-01-24 21:01:25 -0500 (Mon, 24 Jan 2022)
EndedAt: 2022-01-24 21:02:19 -0500 (Mon, 24 Jan 2022)
EllapsedTime: 54.4 seconds
RetCode: 0
Status:   OK  
PackageFile: MCbiclust_1.19.0.zip
PackageFileSize: 5.171 MiB

Command output

##############################################################################
##############################################################################
###
### Running command:
###
###   rm -rf MCbiclust.buildbin-libdir && mkdir MCbiclust.buildbin-libdir && D:\biocbuild\bbs-3.15-bioc\R\bin\R.exe CMD INSTALL --build --library=MCbiclust.buildbin-libdir MCbiclust_1.19.0.tar.gz
###
##############################################################################
##############################################################################


* installing *source* package 'MCbiclust' ...
** using staged installation
** R
** data
*** moving datasets to lazyload DB
** inst
** byte-compile and prepare package for lazy loading
** help
*** installing help indices
  converting help for package 'MCbiclust'
    finding HTML links ... done
    CCLE_samples                            html  
    CCLE_small                              html  
    CVEval                                  html  
    CVPlot                                  html  
    CorScoreCalc                            html  
    FindSeed                                html  
    GOEnrichmentAnalysis                    html  
    HclustGenesHiCor                        html  
    MCbiclust                               html  
    Mitochondrial_genes                     html  
    PC1VecFun                               html  
    PointScoreCalc                          html  
    SampleSort                              html  
    SilhouetteClustGroups                   html  
    ThresholdBic                            html  
** building package indices
** installing vignettes
** testing if installed package can be loaded from temporary location
** testing if installed package can be loaded from final location
** testing if installed package keeps a record of temporary installation path
* MD5 sums
packaged installation of 'MCbiclust' as MCbiclust_1.19.0.zip
* DONE (MCbiclust)