![]() | Name | Last modified | Size | Description |
---|---|---|---|---|
![]() | Parent Directory | - | ||
![]() | install-summary.dcf | 01-Oct-2023 00:36 | 263 | |
![]() | checksrc-summary.dcf | 01-Oct-2023 00:36 | 422 | |
![]() | buildsrc-summary.dcf | 01-Oct-2023 00:36 | 423 | |
![]() | buildsrc-out.txt | 01-Oct-2023 00:36 | 814 | |
![]() | install-out.txt | 01-Oct-2023 00:36 | 1.0K | |
![]() | checksrc-out.txt | 01-Oct-2023 00:36 | 3.8K | |