Index of /checkResults/devel/bioc-LATEST/MCbiclust/raw-results/lconway

[ICO]NameLast modifiedSizeDescription

[DIR]Parent Directory  -  
[TXT]buildbin-out.txt07-Jul-2022 00:09 1.2K 
[   ]buildbin-summary.dcf07-Jul-2022 00:09 542  
[TXT]buildsrc-out.txt07-Jul-2022 00:09 824  
[   ]buildsrc-summary.dcf07-Jul-2022 00:09 433  
[TXT]checksrc-out.txt07-Jul-2022 00:09 3.6K 
[   ]checksrc-summary.dcf07-Jul-2022 00:09 452  
[TXT]install-out.txt07-Jul-2022 00:09 1.0K 
[   ]install-summary.dcf07-Jul-2022 00:09 273