Index of /checkResults/devel/bioc-LATEST/MCbiclust/raw-results/kjohnson

[ICO]NameLast modifiedSizeDescription

[DIR]Parent Directory  -  
[TXT]buildsrc-out.txt08-Jul-2022 00:11 1.3K 
[   ]buildsrc-summary.dcf08-Jul-2022 00:11 346  
[TXT]install-out.txt12-Jul-2022 00:06 1.0K 
[   ]install-summary.dcf12-Jul-2022 00:06 273