Index of /checkResults/devel/bioc-LATEST/MBQN/raw-results/palomino4

[ICO]NameLast modifiedSizeDescription

[DIR]Parent Directory  -  
[TXT]buildbin-out.txt02-Jul-2022 00:06 1.1K 
[   ]buildbin-summary.dcf02-Jul-2022 00:06 510  
[TXT]buildsrc-out.txt02-Jul-2022 00:06 860  
[   ]buildsrc-summary.dcf02-Jul-2022 00:06 438  
[TXT]checksrc-out.txt02-Jul-2022 00:06 3.1K 
[   ]checksrc-summary.dcf02-Jul-2022 00:06 435  
[TXT]install-out.txt02-Jul-2022 00:06 1.7K 
[   ]install-summary.dcf02-Jul-2022 00:06 595